BEGIN:VCALENDAR
VERSION:2.0
PRODID:-//Harmonie St. Catharina - ECPv4.6.2//NONSGML v1.0//EN
CALSCALE:GREGORIAN
METHOD:PUBLISH
X-WR-CALNAME:Harmonie St. Catharina
X-ORIGINAL-URL:https://www.harmoniestcatharina.nl
X-WR-CALDESC:Events for Harmonie St. Catharina
BEGIN:VEVENT
DTSTART;TZID=Europe/Amsterdam:20230325T140000
DTEND;TZID=Europe/Amsterdam:20230326T183000
DTSTAMP:20260425T015235
CREATED:20230303T154105Z
LAST-MODIFIED:20230306T173311Z
UID:2460-1679752800-1679855400@www.harmoniestcatharina.nl
SUMMARY:Solisten & Ensemble Festival
DESCRIPTION:Op zaterdag 25 en zondag 26 maart vindt het solisten- en ensemblefestival van de Federatie Muziekgezelschappen in de gemeente Venray plaats. \nOnze harmonie heeft dit jaar de eer om dit festival te mogen organiseren. \nEr vinden 64 optredens plaats verzorgd door leerling muzikanten uit de verschillende orkesten van de gemeente Venray. De optredens zijn voor zowel de blaasinstrumenten als voor het slagwerk. \nHet festival zal plaatsvinden in het MFC “De Baank” in Leunen\, de entree is € 1\,50. \nJongeren t/m 12 jaar hebben gratis toegang. \nOp zaterdag 25 maart spelen de percussionisten vanaf 14.00 uur tot ongeveer 17.00 uur \nOp zondag 26 maart spelen de blazers vanaf 13.00 uur tot ongeveer 18.30 uur. \n
URL:https://www.harmoniestcatharina.nl/evenement/solisten-ensemble-festival/
CATEGORIES:Drumband,Harmonieorkest,Jeugddrumband,Opleidingsorkest
END:VEVENT
END:VCALENDAR